BEGIN:VCALENDAR
VERSION:2.0
PRODID:-//wp-events-plugin.com//7.2.3.1//EN
TZID:Europe/Berlin
X-WR-TIMEZONE:Europe/Berlin
BEGIN:VEVENT
UID:110@raumstation3539.net
DTSTART;TZID=Europe/Berlin:20260307T130000
DTEND;TZID=Europe/Berlin:20260307T220000
DTSTAMP:20260217T132846Z
URL:https://www.raumstation3539.net/veranstaltung/feministischer-kampftag-
 kue-che/
SUMMARY:Feministischer Kampftag Kü-Ché
DESCRIPTION:Ein Tag Self-Care statt Care-Arbeit:\n\nWorkshops und get toget
 her bei Kaffee und Kuchen in der Kü-Ché.
ATTACH;FMTTYPE=image/jpeg:https://www.raumstation3539.net/wp-content/uploa
 ds/2025/09/Design-ohne-Titel.png
CATEGORIES:Café
LOCATION:anschlussverwendung\, Grünbergerstraße 22\, Gießen\, 35390 \, D
 eutschland
X-APPLE-STRUCTURED-LOCATION;VALUE=URI;X-ADDRESS=Grünbergerstraße 22\, Gie
 ßen\, 35390 \, Deutschland;X-APPLE-RADIUS=100;X-TITLE=anschlussverwendung
 :geo:0,0
END:VEVENT
BEGIN:VTIMEZONE
TZID:Europe/Berlin
X-LIC-LOCATION:Europe/Berlin
BEGIN:STANDARD
DTSTART:20251026T020000
TZOFFSETFROM:+0200
TZOFFSETTO:+0100
TZNAME:CET
END:STANDARD
END:VTIMEZONE
END:VCALENDAR