BEGIN:VCALENDAR
VERSION:2.0
PRODID:-//wp-events-plugin.com//7.2.3.1//EN
TZID:Europe/Berlin
X-WR-TIMEZONE:Europe/Berlin
BEGIN:VEVENT
UID:229@raumstation3539.net
DTSTART;TZID=Europe/Berlin:20260424T190000
DTEND;TZID=Europe/Berlin:20260424T220000
DTSTAMP:20260324T102952Z
URL:https://www.raumstation3539.net/veranstaltung/salsa-party-2/
SUMMARY:Salsa-Party
DESCRIPTION:Workshop 18 - 19 Uhr\,\n\nfreies Tanzen 19 -22 Uhr
ATTACH;FMTTYPE=image/jpeg:https://www.raumstation3539.net/wp-content/uploa
 ds/2026/03/Screenshot-2026-03-24-112827.png
CATEGORIES:Workshop
LOCATION:anschlussverwendung\, Grünbergerstraße 22\, Gießen\, 35390 \, D
 eutschland
X-APPLE-STRUCTURED-LOCATION;VALUE=URI;X-ADDRESS=Grünbergerstraße 22\, Gie
 ßen\, 35390 \, Deutschland;X-APPLE-RADIUS=100;X-TITLE=anschlussverwendung
 :geo:0,0
END:VEVENT
BEGIN:VTIMEZONE
TZID:Europe/Berlin
X-LIC-LOCATION:Europe/Berlin
BEGIN:DAYLIGHT
DTSTART:20260329T030000
TZOFFSETFROM:+0100
TZOFFSETTO:+0200
TZNAME:CEST
END:DAYLIGHT
END:VTIMEZONE
END:VCALENDAR